Workbook
Name activity: Титульный!$G$26
Name activity_zag: Титульный!$E$26
Name add_event: 'ТБО Инвестиции'!$B$17:$B$37
Name add_HYPERLINK_range: et_union!$31:$31
Name add_index: 'ТБО Инвестиции'!$5:$6
Name add_INDEX_2_ACQUISITION_2_range_1: et_union!$25:$26
Name add_INDEX_2_ACQUISITION_range_1: et_union!$17:$18
Name add_INDEX_2_RECORD_range: et_union!$17:$17
Name add_INDEX_2_SUPPLIER_2_range_1: et_union!$24:$27
Name add_INDEX_2_SUPPLIER_range_1: et_union!$16:$19
Name add_INDEX_range: et_union!$10:$10
Name add_MO_range: et_union!$5:$5
Name add_MR_range: et_union!$5:$6
Name add_source_of_funding: 'ТБО Инвестиции'!$3:$3
Name addHypEvent: 'ТБО Инвестиции'!$I$17
Name checkCell_1: 'ТБО Инвестиции'!$E$19:$J$37
Name checkCell_2: 'ТБО показатели'!$E$18:$H$44
Name checkCell_3: 'ТБО показатели (2)'!$E$19:$M$32
Name checkCell_4: 'Ссылки на публикации'!$E$19:$K$33
Name codeTemplate: Инструкция!$J$2
Name Date_of_publication: 'Ссылки на публикации'!$H$20:$H$33
Name dateEndIPR: 'ТБО Инвестиции'!$H$22:$J$22
Name dateStartIPR: 'ТБО Инвестиции'!$H$21:$J$21
Name DAY: TEHSHEET!$G$2:$G$32
Name deleteForExceptions: et_union!$I$31:$J$31
Name deleteNotForExceptions: et_union!$H$31
Name details_of_org: Титульный!$G$41:$G$42,Титульный!$G$45:$G$46,Титульный!$G$49:$G$50,Титульный!$G$53:$G$56
Name details_of_org_address: Титульный!$G$41:$G$42
Name details_of_org_buhg: Титульный!$G$49:$G$50
Name details_of_org_etc: Титульный!$G$53:$G$56
Name details_of_org_main: Титульный!$G$45:$G$46
Name edit_ipr_pub: et_union!$36:$38
Name edit_ipr_pub_SPb: et_union!$43:$46
Name fil: Титульный!$G$21
Name fil_flag: Титульный!$G$15
Name flag_ipr: Титульный!$G$30
Name godEnd: Титульный!$G$13
Name godStart: Титульный!$G$12
Name hide_me_column_1_1: Титульный!$D:$D
Name hide_me_column_1_2: Титульный!$H:$H
Name hide_me_column_2_1: 'ТБО Инвестиции'!$D:$D
Name hide_me_column_2_2: 'ТБО Инвестиции'!$J:$K
Name hide_me_column_3_1: 'ТБО показатели'!$D:$D
Name hide_me_column_3_2: 'ТБО показатели'!$I:$I
Name hide_me_column_4_1: 'ТБО показатели (2)'!$D:$D
Name hide_me_column_4_2: 'ТБО показатели (2)'!$N:$N
Name hide_me_column_5_1: 'Ссылки на публикации'!$D:$D
Name hide_me_column_5_2: 'Ссылки на публикации'!$L:$L
Name hide_me_row_1_1: Титульный!$38:$38
Name hide_me_row_1_2: Титульный!$36:$38
Name hide_me_row_2_1: 'ТБО Инвестиции'!$25:$25
Name hide_me_row_2_2: 'ТБО Инвестиции'!$28:$28
Name hide_me_row_2_3: 'ТБО Инвестиции'!$36:$37
Name hide_me_row_3_1: 'ТБО показатели'!$37:$37
Name hide_me_row_4_1: 'ТБО показатели (2)'!$20:$32
Name hide_me_row_5_1: 'Ссылки на публикации'!$33:$33
Name indexPoint_3_12_1: 'ТБО показатели'!$H$32:$H$33
Name inn: Титульный!$G$23
Name inn_zag: Титульный!$E$23
Name inv_ch5_6: 'ТБО Инвестиции'!$H$23:$H$28,'ТБО Инвестиции'!$H$3

Sheet Инструкция
J2: Код шаблона: JKH.OPEN.INFO.TARIFF.TBO
J3: ="Версия " & GetVersion() -> #NAME?
B4: Инструкция по заполнению шаблона
C7: Технические требования: • макросы во время работы должны быть включены
C8: • на рабочем месте должен быть установлен MS Office 2003, 2007, 2010 x86 с полной версией MS Excel
C9: • макросы во время работы должны быть включены
C10: • для корректной работы шаблона требуется выбрать низкий уровень безопасности (В меню MS Excel 2003: Сервис ¦ Макрос ¦ Безопасность ¦ выбрать нижний пункт «Низкая безопасность» ¦ «OK») (В MS Excel 2007 после открытия файла шаблона нажать на кнопку «Параметры…» в строке «Предупреждение системы безопасности», далее выбрать «Включить это содержимое» ¦ «OK»)
D12: ● | E12: голубой – ячейки, обязательные для заполнения;
D13: ● | E13: жёлтый – ячейки, предназначенные для заполнения;
D14: ● | E14: зелёный – ячейки с формулами и константами.
E16: Пояснение к заполнению (необходимо нажать один раз).
C18: Шаблон может быть сохранен на любом этапе заполнения!
C19: • При сохранении шаблона осуществляется проверка на наличие и корректность (например, КПП – 9 цифр) обязательных параметров на листах.
C20: • Если какая-то ячейка не удовлетворяет условию проверки, на лист «Проверка» добавляется гиперссылка на данную ячейку и причина, по которой шаблон не будет загружен в хранилище данных.
C21: • В колонке «Статус ошибки» для каждого сообщения возможны 2 значения: ошибка и предупреждение.
C22: • При наличии сообщений со статусом «Ошибка» шаблон будет отклонён системой, сообщения со статусом «Предупреждение» носят информационный характер, и такой шаблон будет принят системой.
C23: Организационно-технические консультации:
C24: ФИО:
C25: телефон:
C26: e-mail:
C27: WEB-сайт:
C28: Комментарий
C29: Дистрибутивы: | E29: Для устранения проблем с MS Excel (например, "Compile error in hidden module") воспользуйтесь пакетами библиотек:
C30: Дистрибутивы (ссылка): | E30: http://eias.ru/?page=show_distrs
C32: Консультации по методологии заполнения форм:
C33: ФИО:
C34: телефон:
C35: e-mail:
C36: WEB-сайт:
C37: Комментарий

Sheet Обновление
O2: =version -> #NAME?
C3: Инструкция по обновлению шаблона
C24: Если компьютер имеет подключение к Интернет, можно автоматически проверять наличие доступных обновлений. Выберите способ оповещения о наличии обновлений для шаблона:

Sheet Лог обновления
A1: Дата/Время | B1: Сообщение | C1: Статус
A2: 12/21/2012 2:20:27 PM | B2: Проверка доступных обновлений... | C2: Информация
A3: 12/21/2012 2:20:50 PM | B3: Нет доступных обновлений для шаблона с кодом JKH.OPEN.INFO.TARIFF.TBO! | C3: Информация
A4: 12/21/2012 2:40:11 PM | B4: Проверка доступных обновлений... | C4: Информация
A5: 12/21/2012 2:40:13 PM | B5: Версия шаблона 4.3 актуальна, обновление не требуется | C5: Информация
A6: 12/21/2012 2:56:21 PM | B6: Проверка доступных обновлений... | C6: Информация
A7: 12/21/2012 2:56:22 PM | B7: Версия шаблона 4.3 актуальна, обновление не требуется | C7: Информация
A8: 12/21/2012 3:22:08 PM | B8: Проверка доступных обновлений... | C8: Информация
A9: 12/21/2012 3:22:09 PM | B9: Версия шаблона 4.3 актуальна, обновление не требуется | C9: Информация
A10: 12/24/2012 7:58:14 AM | B10: Проверка доступных обновлений... | C10: Информация
A11: 12/24/2012 7:58:16 AM | B11: Версия шаблона 4.3 актуальна, обновление не требуется | C11: Информация
A12: 12/24/2012 9:16:28 AM | B12: Проверка доступных обновлений... | C12: Информация
... A15: 12/24/2012 9:26:58 AM | B15: Версия шаблона 4.3 актуальна, обновление не требуется | C15: Информация

Sheet Выбор субъекта РФ
F2: 56
D3: Субъект РФ | F3: Республика Мордовия

Sheet Титульный
A1: =region_name -> Республика Мордовия | B1: =IF(godStart="","Не определено",godStart) -> 01.01.2013 | C1: =org&"_INN:"&inn&"_KPP:"&kpp -> ООО "Спецавтохозяйство"_INN:1322122220_KPP:132201001
A2: =IF(org="","Не определено",org) -> ООО "Спецавтохозяйство" | B2: =IF(inn="","Не определено",inn) -> 1322122220 | G2: =codeTemplate -> Код шаблона: JKH.OPEN.INFO.TARIFF.TBO
G3: =version -> #NAME?
A4: =IF(fil="","Не определено",fil) -> Не определено | B4: =IF(kpp="","Не определено",kpp) -> 132201001 | D4: Показатели подлежащие раскрытию в сфере утилизации (захоронения) твердых бытовых отходов (План)
E6: Создать печатную форму
E7: Субъект РФ | G7: Республика Мордовия
A9: L0 | B9: Признак филиала | E9: Публикация | G9: на сайте регулирующего органа
E11: Период регулирования
E12: Начало очередного периода регулирования | G12: 01.01.2013
E13: Окончание очередного периода регулирования | G13: 31.12.2013
A15: L0 | B15: Признак филиала | E15: Является ли данное юридическое лицо подразделением (филиалом) другой организации | G15: нет
A18: 66 | E18: Дата последнего обновления реестра организаций: 21.12.2012 14:21:46
E19: Наименование организации | G19: ООО "Спецавтохозяйство"
E21: Наименование ПОДРАЗДЕЛЕНИЯ
E23: ИНН организации | G23: 1322122220
E24: КПП организации | G24: 132201001
E26: Вид деятельности, на которую установлен тариф | G26: Утилизация (захоронение) твердых бытовых отходов
E28: Режим налогообложения | G28: общий с учетом освобождения от уплаты НДС
E30: Организация выполняет инвестиционную программу | G30: нет
E33: Дата последнего обновления реестра МР/МО: 21.12.2012 14:27:58
E34: Муниципальный район, на территории которого оказывается услуга | F34: Муниципальное образование, на территории которого оказывается услуга
E35: Наименование МР | F35: Наименование МО | G35: ОКТМО
E36: Чамзинский муниципальный район | F36: Чамзинский муниципальный район | G36: 89657000
F37: Добавить МО
E38: Добавить МР
E40: Адрес организации
E41: Юридический адрес: | G41: Республика Мордовия п.Чамзинка ул.Республиканская 17
E42: Почтовый адрес: | G42: Республика Мордовия п.Чамзинка ул.Республиканская 17
E44: Руководитель
E45: Фамилия, имя, отчество: | G45: Тулисов Владимир Михайлович
E46: (код) номер телефона: | G46: (883437)2-16-85
E48: Главный бухгалтер
E49: Фамилия, имя, отчество: | G49: Тулисова Марина Александровна
E50: (код) номер телефона: | G50: (883437)2-16-85
E52: Должностное лицо, ответственное за составление формы
E53: Фамилия, имя, отчество: | G53: Кутынина Валентина Ивановна
E54: Должность: | G54: Экономист
E55: (код) номер телефона: | G55: (883437)2-16-85
E56: e-mail: | G56: spautj@moris ru

Sheet ТБО Инвестиции
G5: План на отчетный период
G6: Факт на начало реализации программы**
D11: =codeTemplate -> Код шаблона: JKH.OPEN.INFO.TARIFF.TBO
D13: Информация об инвестиционных программах и отчетах об их реализации *
D14: =IF(org="","",IF(fil="",org,org & " (" & fil & ")")) & IF(OR(godStart="",godEnd=""),"",", "&YEAR(godStart)& "-" & YEAR(godEnd)&" гг.") -> ООО "Спецавтохозяйство", 2013-2013 гг.
B17: Мероприятие 1 | E17: № п/п | F17: Наименование показателя | H17: Значение | I17: Добавить мероприятие
B18: 4 | E18: 1 | F18: =E18+1 -> 2 | H18: 3
E19: 1 | F19: Наименование инвестиционной программы (мероприятия)
B20: х | E20: 2 | F20: Цель инвестиционной программы | G20: Цель инвестиционной программы
E21: 3 | F21: Срок начала реализации инвестиционной программы
E22: 4 | F22: Срок окончания реализации инвестиционной программы
B23: =SUM(B24:B25) -> 0 | E23: 5 | F23: Потребность в финансовых средствах, необходимых для реализации инвестиционной программы за весь период реализации (тыс.руб.), в том числе по источникам финансирования
E24: 5.1
F25: Добавить источники
B26: =SUM(B27:B28) -> 0 | E26: 6 | F26: Потребность в финансовых средствах, необходимых для реализации инвестиционной программы за отчетный период (тыс.руб.), в том числе по источникам финансирования
E27: 6.1
F28: Добавить источники
B29: х | E29: 7 | F29: Эффективность реализации инвестиционной программы (включая изменения технико-экономических показателей организации) | H29: х
B30: х | E30: 7.1 | F30: Срок окупаемости, лет | G30: План на отчетный период
B31: х | G31: Факт на начало реализации программы**
E32: 7.2 | F32: Продолжительность (бесперебойность) поставки товаров и услуг (час/день) | G32: План на отчетный период
G33: Факт на начало реализации программы**
E34: 7.3 | F34: Численность населения, пользующегося услугами данной организации, чел. | G34: План на отчетный период
G35: Факт на начало реализации программы**
F36: Добавить показатель
B37: Удалить мероприятие
E39: * | F39: Раскрывается не позднее 30 дней со дня принятия соответствующего решения об установлении тарифа(надбавки) на очередной период регулирования.
E40: ** | F40: На последнюю дату отчетного периода, предшествующего периоду начала реализации инвестиционной программы.

Sheet ТБО показатели
H1: two
D10: =codeTemplate -> Код шаблона: JKH.OPEN.INFO.TARIFF.TBO
D12: Информация об основных показателях финансово-хозяйственной деятельности регулируемых организаций, включая структуру основных производственных затрат (в части регулируемой деятельности) *
D13: =IF(org="","",IF(fil="",org,org & " (" & fil & ")")) & IF(OR(godStart="",godEnd=""),"",", "&YEAR(godStart)& "-" & YEAR(godEnd)&" гг.") -> ООО "Спецавтохозяйство", 2013-2013 гг.
E16: № п/п | F16: Наименование показателя | G16: Единица измерения | H16: Значение
E17: 1 | F17: =E17+1 -> 2 | G17: =F17+1 -> 3 | H17: =G17+1 -> 4
E18: 1 | F18: Вид регулируемой деятельности | G18: x | H18: =IF(activity = "","",activity) -> Утилизация (захоронение) твердых бытовых отходов
E19: 2 | F19: Выручка от регулируемой деятельности | G19: тыс.руб. | H19: 1390.15
E20: 3 | F20: Себестоимость оказываемых услуг по регулируемому виду деятельности, включающей: | G20: тыс.руб. | H20: =SUM(H21:H25,H28,H31,H34:H37) -> 1390.15
E21: 3.1 | F21: Расходы на оплату труда | G21: тыс.руб. | H21: 259.92
E22: 3.2 | F22: Отчисления на социальные нужды основного производственного персонала | G22: тыс.руб. | H22: 52.76
E23: 3.3 | F23: Расходы на амортизацию основных производственных средств | G23: тыс.руб. | H23: 0
E24: 3.4 | F24: Расходы на аренду имущества, используемого в технологическом процессе | G24: тыс.руб. | H24: 67.21
E25: 3.5 | F25: Общепроизводственные (цеховые) расходы | G25: тыс.руб. | H25: 0
E26: 3.5.1 | F26: Расходы на оплату труда | G26: тыс.руб. | H26: 0
E27: 3.5.2 | F27: Отчисления на социальные нужды | G27: тыс.руб. | H27: 0
E28: 3.6 | F28: Общехозяйственные (управленческие) расходы | G28: тыс.руб. | H28: 180.45
E29: 3.6.1 | F29: Расходы на оплату труда | G29: тыс.руб. | H29: 0
E30: 3.6.2 | F30: Отчисления на социальные нужды | G30: тыс.руб. | H30: 0
E31: 3.7 | F31: Расходы на ремонт (капитальный и текущий) основных призводственных средств | G31: тыс.руб. | H31: 75.1
E32: 3.7.1 | F32: справочно: расходы на капитальный ремонт основных производственных средств | G32: тыс.руб. | H32: 0
... E34: 3.8 | F34: Расходы на услуги производственного характера, выполняемые по договорам с организациями на проведение регламентных работ в рамках технологического процесса | G34: тыс.руб. | H34: 0
D35: Удалить запись | E35: 3.9 | F35: Расходы на гсм | G35: тыс.руб. | H35: 581.32
D36: Удалить запись | E36: 3.10 | F36: Прочие прямые расходы | G36: тыс.руб. | H36: 173.39
F37: Добавить запись
E38: 4 | F38: Валовая прибыль от оказания услуг по регулируемому виду деятельности | G38: тыс.руб. | H38: 0
E39: 5 | F39: Чистая прибыль по регулируемому виду деятельности | G39: тыс.руб. | H39: 0
E40: 5.1 | F40: В том числе чистая прибыль на финансирование мероприятий, предусмотренных инвестиционной программой по развитию системы (объектов) утилизации твердых бытовых отходов | G40: тыс.руб. | H40: 0
E41: 6 | F41: Объем принятых на утилизацию (захоронение) твердых бытовых отходов | G41: тыс.куб.м в год | H41: 55
E42: 6.1 | F42: Объем принятых на утилизацию (захоронение) твердых бытовых отходов | G42: тыс.тонн в год | H42: 0
E43: 7 | F43: Среднесписочная численности основного производственного персонала | G43: чел. | H43: 2
E44: 8 | F44: Комментарии | G44: x | H44: 0
E46: * | F46: Раскрывается не позднее 30 дней со дня принятия соответствующего решения об установлении тарифа(надбавки) на очередной период регулирования.

Sheet ТБО показатели (2)
D10: =codeTemplate -> Код шаблона: JKH.OPEN.INFO.TARIFF.TBO
D12: Информация об объемах товаров и услуг, их стоимости и способах приобретения *
D13: =IF(org="","",IF(fil="",org,org & " (" & fil & ")")) & IF(OR(godStart="",godEnd=""),"",", "&YEAR(godStart)& "-" & YEAR(godEnd)&" гг.") -> ООО "Спецавтохозяйство", 2013-2013 гг.
E17: № п/п | F17: Наименование поставщика | G17: Способ приобретения | H17: Реквизиты договора | I17: Наименование товара/услуги | J17: Объем приобретенных товаров, услуг | K17: Единица измерения объема | L17: Стоимость, тыс.руб. | M17: Доля расходов, % (от суммы расходов по указанной статье)
E18: 1 | F18: 2 | G18: 3 | H18: 4 | I18: 5 | J18: 6 | K18: 7 | L18: 8 | M18: 9
E19: 1 | F19: Расходы на ремонт (текущиий и капитальный) основных производственных средств итого. Из них: | L19: ='ТБО показатели'!$H$31 -> 75.1
E20: 1.1 | F20: Товары и услуги, приобретенные у организаций, сумма оплаты услуг которых превышает 20% суммы расходов по статье
E21: 1.1.1 | F21: Данная статья не превышает 20% | G21: Итого по поставщику | L21: =SUM(L22:L24) -> 0 | M21: =nerr(L21/'ТБО показатели'!$H$31)*100 -> #NAME?
G22: прямые договора без торгов | H22: 0,0 | I22: 0,00 | J22: 0 | K22: 0,00 | L22: 0
I23: Добавить запись
G24: Добавить способ
F25: Добавить поставщика
E26: 2 | F26: Расходы на услуги производственного характера, выполняемые по договорам с организациями на проведение регламентных работ в рамках технологического процесса. Из них: | L26: ='ТБО показатели'!$H$34 -> 0
E27: 2.1 | F27: Товары и услуги, приобретенные у организаций, сумма оплаты услуг которых превышает 20% суммы расходов по статье
E28: 2.1.1 | F28: 0,00 | G28: Итого по поставщику | L28: =SUM(L29:L31) -> 0 | M28: =nerr(L28/'ТБО показатели'!$H$34)*100 -> #NAME?
G29: прямые договора без торгов | H29: 0,00 | I29: 0,00 | J29: 0 | K29: 0,00 | L29: 0
I30: Добавить запись
G31: Добавить способ
F32: Добавить поставщика
E34: * | F34: Раскрывается не позднее 30 дней со дня принятия соответствующего решения об установлении тарифа(надбавки) на очередной период регулирования.

Sheet Ссылки на публикации
D10: =codeTemplate -> Код шаблона: JKH.OPEN.INFO.TARIFF.TBO
D12: Ссылки на публикации в других источниках
D13: =IF(org="","",IF(fil="",org,org & " (" & fil & ")")) & IF(OR(godStart="",godEnd=""),"",", "&YEAR(godStart)& "-" & YEAR(godEnd)&" гг.") -> ООО "Спецавтохозяйство", 2013-2013 гг.
E16: Указание на официальное печатное издание и(или) адрес сайта в сети Интернет, которые используются для размещения раскрываемой информации *
E18: № п/п | F18: Содержание | G18: Наименование источника | H18: Дата размещения информации | I18: Номер печатного издания | J18: Дата печатного издания | K18: Адрес сайта в сети Интернет
E19: 1 | F19: =E19+1 -> 2 | G19: 3 | H19: 4 | I19: 5 | J19: 6 | K19: 7
E23: 1.2 | F23: Информация об основных показателях финансово-хозяйственной деятельности регулируемых организаций, включая структуру основных производственных затрат (в части регулируемой деятельности)
E24: 1.2.1 | F24: Сайт в сети Интернет | G24: Сайт администрации Чамзинского муниципального района | H24: 24.12.2012 | I24: x | J24: x | K24: chamzinka.e-mordovia.ru
E25: 1.2.2 | F25: Печатное издание | G25: Ежедневная общественно-политическая газета Известия Мордовия | H25: 06.12.2012 | I25: №186 (24.783)-63 | J25: 06.12.2012 | K25: x
E26: 1.3 | F26: Информация о расходах на капитальный и текущий ремонт, услуги производственного характера
E27: 1.3.1 | F27: Сайт в сети Интернет | G27: Сайт администрации Чамзинского муниципального района | H27: 24.12.2012 | I27: x | J27: x | K27: chamzinka.e-mordovia.ru
E28: 1.3.2 | F28: Печатное издание | G28: газета Чамзинского муниципального района "Знамя" | H28: 14.12.2012 | I28: №55(9078) | J28: 14.12.2012 | K28: x
E29: 1.4 | F29: Условия публичных договоров поставок регулируемых товаров, оказания регулируемых услуг
E30: 1.4.1 | F30: Сайт в сети Интернет | G30: Сайт администрации Чамзинского муниципального района | H30: 24.12.2012 | I30: x | J30: x | K30: chamzinka.e-mordovia.ru
E31: 1.4.2 | F31: Печатное издание | G31: газета Чамзинского муниципального района "Знамя" | H31: 14.12.2012 | I31: №55(9078) | J31: 14.12.2012 | K31: x
E32: 1.4
F33: Добавить запись
E35: * | F35: Источники публикации сообщаются в течение 5 рабочих дней со дня размещения информации на сайте в сети Интернет.
F36: Информация раскрывается не позднее 30 дней со дня принятия соответствующего решения об установлении тарифа(надбавки) на очередной период регулирования.
E37: ** | F37: Информация подлежит публикованию в официальных печатных изданиях (со ссылкой на адрес сайта в сети Интернет).

Sheet Комментарии
D10: =codeTemplate -> Код шаблона: JKH.OPEN.INFO.TARIFF.TBO
D12: КОММЕНТАРИИ
D13: =IF(org="","",IF(fil="",org,org & " (" & fil & ")")) & IF(OR(godStart="",godEnd=""),"",", "&YEAR(godStart)& "-" & YEAR(godEnd)&" гг.") -> ООО "Спецавтохозяйство", 2013-2013 гг.

Sheet Проверка
E8: =codeTemplate -> Код шаблона: JKH.OPEN.INFO.TARIFF.TBO
E10: Результат проверки
E12: Ссылка | F12: Причина | G12: Статус ошибки
E13: 1 | F13: 2 | G13: 3

Sheet AllSheetsInThisWorkbook
A1: Расчетные листы | B1: Скрытые листы
A2: sheetMain00 | B2: AllSheetsInThisWorkbook
A3: SHEET_UPDATE_INSTRUCTION | B3: TEHSH_et_union
A4: modUpdTemplLogger | B4: TEHSH_tehsheet
A5: modRegionSelect | B5: TEHSH_reestr_org
A6: sheetMain01 | B6: TEHSH_reestr_filter
A7: sheetMain07 | B7: TEHSH_reestr_mo
A8: sheetMain02_1 | B8: modHyperlink
A9: sheetMain03_1 | B9: modChange
A10: sheetMain04 | B10: modfrmReestr
A11: sheetMain05 | B11: modPROV
B12: modTitleSheetHeaders
B13: modServiceModule
B14: modClassifierValidate
B15: modWindowClipboard
B16: modInfo
B17: modfrmDateChoose
B18: modReestrMO
B19: modDblClick
B20: modUpdTemplMain
B21: modSheetMain01
B22: modSheetMain02
B23: modSheetMain03
... B27: sheetOld00

Sheet et_union
A2: add_MR_range
A3: add_MO_range
F6: Добавить МО
A8: add_INDEX_range
G10: тыс.руб.
A12: add_INDEX_2_SUPPLIER_range_1
A13: add_INDEX_2_ACQUISITION_range_1
A14: add_INDEX_2_RECORD_range
G16: Итого по поставщику | L16: =SUM(L17:L19) -> 0 | M16: =nerr(L16/'ТБО показатели'!$H$31)*100 -> #NAME?
I18: Добавить запись
G19: Добавить способ
A21: add_INDEX_2_SUPPLIER_2_range_1
A22: add_INDEX_2_ACQUISITION_2_range_1
G24: Итого по поставщику | L24: =SUM(L25:L27) -> 0 | M24: =nerr(L24/'ТБО показатели'!$H$34)*100 -> #NAME?
I26: Добавить запись
G27: Добавить способ
A29: add_HYPERLINK_range
A34: edit_ipr_pub
E36: 1.1 | F36: Информация об инвестиционных программах и отчетах об их реализации **
E37: 1.1.1 | F37: Сайт в сети Интернет | I37: x | J37: x
E38: 1.1.2 | F38: Печатное издание | K38: x
A41: edit_ipr_pub_SPb
E43: 1.1 | F43: Информация об инвестиционных программах и отчетах об их реализации **
E44: 1.1.1 | F44: Сайт в сети Интернет | I44: x | J44: x
E45: 1.1.2 | F45: Печатное издание | K45: x
E46: 1.1.3 | F46: Электронная версия печатного издания (если есть)

Sheet TEHSHEET
A1: Логика | B1: Года | C1: Единица измерения | D1: Месяц-число | E1: Месяц-текст | F1: Месяц-текст /род.падеж/ | G1: День-число | H1: Регионы | I1: НДС /kind_of_NDS/ | J1: метод установления тарифа /kind_of_the_method_of_tariff_setting/ | K1: Листы | P1: Диапазоны | S1: публикация /kind_of_publication/ | AA1: Диапазоны | AD1: Вид деятельности, на которую установлен тариф /kind_of_activity/ | AE1: Вид товара /kind_of_goods/ | AF1: Источники финансирования /source_of_funding/ | AG1: Способ приобретения /method_of_acquisition/ | AH1: цель инвестиционной программы /objective_of_IPR/ | CR1: 5.86
A2: да | B2: 2006 | C2: тыс.руб. | D2: 01 | E2: январь | F2: января | G2: 01 | H2: Алтайский край | I2: общий | K2: sheet_costs_1 | L2: sheet_costs_2 | M2: sheet_costs_3 | N2: sheet_active | P2: method_returns_title | Q2: method_returns_pub | T2: sheet_costs_1 | U2: sheet_costs_2 | V2: sheet_costs_3 | W2: sheet_active | X2: sheet_publication | Y2: sheet_comments | AA2: name_source_str | AB2: name_source_act | AD2: Транспортировка и очистка сточных вод | AE2: Техническая вода | AF2: кредиты банков | AG2: торги, аукционы | AH2: автоматизация (с уменьшением штата)
A3: нет | B3: 2007 | C3: млн.руб. | D3: 02 | E3: февраль | F3: февраля | G3: 02 | H3: Амурская область | I3: общий с учетом освобождения от уплаты НДС | J3: метод экономически обоснованных расходов | K3: -1 | L3: 2 | M3: 2 | N3: 2 | P3: True | Q3: True | S3: на официальном сайте организации | T3: 2 | U3: 2 | V3: 2 | W3: 2 | X3: -1 | Y3: -1 | AA3: 34 | AB3: 34 | AD3: Транспортировка сточных вод | AE3: Питьевая вода | AF3: кредиты иностранных банков | AG3: прямые договора без торгов | AH3: уменьшение удельных затрат (повышение КПД насоса/станции/системы)
B4: 2008 | D4: 03 | E4: март | F4: марта | G4: 03 | H4: Архангельская область | I4: специальный (упрощенная система налогообложения, система налогообложения для сельскохозяйственных товаропроизводителей) | J4: метод индексации на основе долгосрочных параметров | K4: 2 | L4: -1 | M4: 2 | N4: 2 | P4: True | Q4: True | S4: на сайте регулирующего органа | T4: -1 | U4: -1 | V4: -1 | W4: -1 | X4: -1 | Y4: -1 | AA4: 36 | AB4: 36 | AD4: Очистка сточных вод | AE4: Техническая вода и питьевая вода | AF4: заемные ср-ва др. организаций | AH4: уменьшение издержек на производство
B5: 2009 | D5: 04 | E5: апрель | F5: апреля | G5: 04 | H5: Астраханская область | J5: метод доходности инвестированного капитала | K5: 2 | L5: 2 | M5: -1 | N5: -1 | P5: False | Q5: False | S5: empty | T5: 2 | U5: 2 | V5: 2 | W5: 2 | X5: 2 | Y5: 2 | AA5: 36 | AB5: 36 | AE5: Подвозная вода | AF5: федеральный бюджет | AH5: снижение аварийности (насосные станции/сети)
B6: 2010 | D6: 05 | E6: май | F6: мая | G6: 05 | H6: Белгородская область | J6: empty | K6: 2 | L6: 2 | M6: 2 | N6: 2 | P6: True | Q6: True | AE6: Другое | AF6: бюджет субъекта РФ | AH6: прочее
B7: 2011 | D7: 06 | E7: июнь | F7: июня | G7: 06 | H7: Брянская область | AF7: бюджет муниципального образования
B8: 2012 | D8: 07 | E8: июль | F8: июля | G8: 07 | H8: Владимирская область | AF8: ср-ва внебюджетных фондов
B9: 2013 | D9: 08 | E9: август | F9: августа | G9: 08 | H9: Волгоградская область | AF9: прибыль, направляемая на инвестиции
B10: 2014 | D10: 09 | E10: сентябрь | F10: сентября | G10: 09 | H10: Вологодская область | AF10: амортизация
B11: 2015 | D11: 10 | E11: октябрь | F11: октября | G11: 10 | H11: Воронежская область | AF11: инвестиционная надбавка к тарифу
B12: 2016 | D12: 11 | E12: ноябрь | F12: ноября | G12: 11 | H12: г.Байконур | AF12: плата за подключение
B13: 2017 | D13: 12 | E13: декабрь | F13: декабря | G13: 12 | H13: г. Москва | AF13: прочие средства
B14: 2018 | G14: 13 | H14: г.Санкт-Петербург
B15: 2019 | G15: 14 | H15: Еврейская автономная область
B16: 2020 | G16: 15 | H16: Забайкальский край
A17: XML_ORG_LIST_TAG_NAMES | G17: 16 | H17: Ивановская область
A18: NSRF | G18: 17 | H18: Иркутская область
A19: MR_NAME | G19: 18 | H19: Кабардино-Балкарская республика
A20: OKTMO_MR_NAME | G20: 19 | H20: Калининградская область
A21: MO_NAME | G21: 20 | H21: Калужская область
A22: OKTMO_NAME | G22: 21 | H22: Камчатский край
A23: ORG_NAME | G23: 22 | H23: Карачаево-Черкесская республика
A24: INN_NAME | G24: 23 | H24: Кемеровская область
A25: KPP_NAME | G25: 24 | H25: Кировская область
A26: VDET_NAME | G26: 25 | H26: Костромская область
G27: 26 | H27: Краснодарский край
A28: XML_MR_MO_OKTMO_LIST_TAG_NAMES | G28: 27 | H28: Красноярский край
A29: NSRF | G29: 28 | H29: Курганская область
A30: MR_NAME | G30: 29 | H30: Курская область
A31: OKTMO_MR_NAME | G31: 30 | H31: Ленинградская область
A32: MO_NAME | G32: 31 | H32: Липецкая область
A33: OKTMO_NAME | H33: Магаданская область
H34: Московская область
H35: Мурманская область
H36: Ненецкий автономный округ
H37: Нижегородская область
H38: Новгородская область
H39: Новосибирская область
H40: Омская область
...

Sheet REESTR_ORG
A1: № | B1: МР | C1: МО | D1: МО ОКТМО | E1: ОРГАНИЗАЦИЯ | F1: ИНН | G1: КПП | H1: ВИД ДЕЯТЕЛЬНОСТИ
A2: 1 | B2: Ардатовский муниципальный район | C2: Городское поселение Ардатов | D2: 89603101 | E2: ООО "Перспектива" | F2: 1301064560 | G2: 130101001 | H2: Утилизация (захоронение) твердых бытовых отходов
A3: 2 | B3: Атюрьевский муниципальный район | C3: Аргинское сельское поселение | D3: 89605405 | E3: ООО "Комстройсервис" | F3: 1302001041 | G3: 130201001 | H3: Утилизация (захоронение) твердых бытовых отходов
A4: 3 | B4: Атюрьевский муниципальный район | C4: Атюрьевский муниципальный район | D4: 89605000 | E4: ООО "Комстройсервис" | F4: 1302001041 | G4: 130201001 | H4: Утилизация (захоронение) твердых бытовых отходов
A5: 4 | B5: Атюрьевский муниципальный район | C5: Атюрьевское сельское поселение | D5: 89605410 | E5: ООО "Комстройсервис" | F5: 1302001041 | G5: 130201001 | H5: Утилизация (захоронение) твердых бытовых отходов
A6: 5 | B6: Атюрьевский муниципальный район | C6: Большешуструйское сельское поселение | D6: 89605420 | E6: ООО "Комстройсервис" | F6: 1302001041 | G6: 130201001 | H6: Утилизация (захоронение) твердых бытовых отходов
A7: 6 | B7: Атюрьевский муниципальный район | C7: Вольно-Никольское сельское поселение | D7: 89605422 | E7: ООО "Комстройсервис" | F7: 1302001041 | G7: 130201001 | H7: Утилизация (захоронение) твердых бытовых отходов
A8: 7 | B8: Атюрьевский муниципальный район | C8: Дмитриево-Усадское сельское поселение | D8: 89605425 | E8: ООО "Комстройсервис" | F8: 1302001041 | G8: 130201001 | H8: Утилизация (захоронение) твердых бытовых отходов
A9: 8 | B9: Атюрьевский муниципальный район | C9: Каменское сельское поселение | D9: 89605415 | E9: ООО "Комстройсервис" | F9: 1302001041 | G9: 130201001 | H9: Утилизация (захоронение) твердых бытовых отходов
A10: 9 | B10: Атюрьевский муниципальный район | C10: Кишалинское сельское поселение | D10: 89605430 | E10: ООО "Комстройсервис" | F10: 1302001041 | G10: 130201001 | H10: Утилизация (захоронение) твердых бытовых отходов
A11: 10 | B11: Атюрьевский муниципальный район | C11: Курташкинское сельское поселение | D11: 89605435 | E11: ООО "Комстройсервис" | F11: 1302001041 | G11: 130201001 | H11: Утилизация (захоронение) твердых бытовых отходов
A12: 11 | B12: Атюрьевский муниципальный район | C12: Мордовско-Козловское сельское поселение | D12: 89605440 | E12: ООО "Комстройсервис" | F12: 1302001041 | G12: 130201001 | H12: Утилизация (захоронение) твердых бытовых отходов
A13: 12 | B13: Атюрьевский муниципальный район | C13: Новочадовское сельское поселение | D13: 89605450 | E13: ООО "Комстройсервис" | F13: 1302001041 | G13: 130201001 | H13: Утилизация (захоронение) твердых бытовых отходов
... A109: 108 | B109: Чамзинский муниципальный район | C109: Городское поселение Чамзинка | D109: 89657151 | E109: ООО "Спецавтохозяйство" | F109: 1322122220 | G109: 132201001 | H109: Утилизация (захоронение) твердых бытовых отходов

Sheet REESTR_FILTERED
A1: № | B1: МР | C1: МО | D1: МО ОКТМО | E1: ОРГАНИЗАЦИЯ | F1: ИНН | G1: КПП | H1: ВИД ДЕЯТЕЛЬНОСТИ
A2: 1 | B2: Абинский муниципальный район | C2: Варнавинское | D2: 03601401 | E2: МУП "Варнавинское" | F2: 2323027035 | G2: 232301001 | H2: Оказание услуг в сфере водоснабжения
A3: 2 | B3: Крымский муниципальный район | C3: Варениковское | D3: 03625404 | E3: МУП "Варениковское коммунальное хозяйство" | F3: 2337032846 | G3: 233701001 | H3: Оказание услуг в сфере водоснабжения и очистки сточных вод

Sheet REESTR_MO
A1: МР | B1: МО | C1: МО_ОКТМО | D1: МР | E1: ИМЯ ДИАПАЗОНА
A2: Ардатовский муниципальный район | B2: Ардатовский муниципальный район | C2: 89603000 | D2: Ардатовский муниципальный район | E2: MO_LIST_2
A3: Ардатовский муниципальный район | B3: Ардатовское сельское поселение | C3: 89603402 | D3: Атюрьевский муниципальный район | E3: MO_LIST_3
A4: Ардатовский муниципальный район | B4: Баевское сельское поселение | C4: 89603404 | D4: Атяшевский муниципальный район | E4: MO_LIST_4
A5: Ардатовский муниципальный район | B5: Городское поселение Ардатов | C5: 89603101 | D5: Большеберезниковский муниципальный район | E5: MO_LIST_5
A6: Ардатовский муниципальный район | B6: Жабинское сельское поселение | C6: 89603410 | D6: Большеигнатовский муниципальный район | E6: MO_LIST_6
A7: Ардатовский муниципальный район | B7: Жаренское сельское поселение | C7: 89603411 | D7: Городские округа Республики Мордовии | E7: MO_LIST_7
A8: Ардатовский муниципальный район | B8: Каласевское сельское поселение | C8: 89603412 | D8: Дубенский муниципальный район | E8: MO_LIST_8
A9: Ардатовский муниципальный район | B9: Кельвядинское сельское поселение | C9: 89603416 | D9: Ельниковский муниципальный район | E9: MO_LIST_9
A10: Ардатовский муниципальный район | B10: Кечушевское сельское поселение | C10: 89603420 | D10: Зубово-Полянский муниципальный район | E10: MO_LIST_10
A11: Ардатовский муниципальный район | B11: Куракинское сельское поселение | C11: 89603428 | D11: Инсарский муниципальный район | E11: MO_LIST_11
A12: Ардатовский муниципальный район | B12: Кученяевское сельское поселение | C12: 89603432 | D12: Ичалковский муниципальный район | E12: MO_LIST_12
... A24: Ардатовский муниципальный район | B24: Староардатовское сельское поселение | C24: 89603480 | D24: Чамзинский муниципальный район | E24: MO_LIST_24
A25: Ардатовский муниципальный район | B25: Тургеневское городское поселение | C25: 89603155
A26: Ардатовский муниципальный район | B26: Турдаковское сельское поселение | C26: 89603484
A27: Ардатовский муниципальный район | B27: Урусовское сельское поселение | C27: 89603488
A28: Ардатовский муниципальный район | B28: Чукальское сельское поселение | C28: 89603492
A29: Атюрьевский муниципальный район | B29: Аргинское сельское поселение | C29: 89605405
A30: Атюрьевский муниципальный район | B30: Атюрьевский муниципальный район | C30: 89605000
A31: Атюрьевский муниципальный район | B31: Атюрьевское сельское поселение | C31: 89605410
A32: Атюрьевский муниципальный район | B32: Большешуструйское сельское поселение | C32: 89605420
A33: Атюрьевский муниципальный район | B33: Вольно-Никольское сельское поселение | C33: 89605422
A34: Атюрьевский муниципальный район | B34: Дмитриево-Усадское сельское поселение | C34: 89605425
A35: Атюрьевский муниципальный район | B35: Каменское сельское поселение | C35: 89605415
A36: Атюрьевский муниципальный район | B36: Кишалинское сельское поселение | C36: 89605430
... A402: Чамзинский муниципальный район | B402: Чамзинский муниципальный район | C402: 89657000

Sheet modPROV

Sheet modHyperlink

Sheet modChange

Sheet modfrmReestr

Sheet modTitleSheetHeaders

Sheet modServiceModule

Sheet modClassifierValidate

Sheet modWindowClipboard

Sheet modInfo

Sheet modfrmDateChoose

Sheet modReestrMO

Sheet modDblClick

Sheet modUpdTemplMain

Sheet modSheetMain01

Sheet modSheetMain02

Sheet modSheetMain03

Sheet modSheetMain04

Sheet modSheetMain05

Sheet modSheetMain07

Sheet Паспорт
AV1: Код диапазона: | AW1: Название диапазона: | AX1: Сфера регулирования: | AY1: Подсфера: | AZ1: Тип информации в шаблоне: | BA1: Состояние шаблона: | BB1: Периодичность: | BC1: "Геотип" шаблона: | BD1: Тип шаблона: | BE1: Заказчик:
AV2: ps_sr | AW2: Сфера регулирования: | AX2: Не определено | AY2: Не определено | AZ2: Не определено | BA2: Не определено | BB2: Не определено | BC2: Не определено | BD2: Не определено | BE2: Не определено
AV3: ps_ti | AW3: Тип информации в шаблоне: | AX3: NETS | AY3: водоотведение - очистка | AZ3: Статистический | BA3: Проект | BB3: Единовременный | BC3: Региональный шаблон | BD3: Атомарный | BE3: РЭК
D4: Паспорт к шаблону | AV4: ps_ssh | AW4: Состояние шаблона: | AX4: Аэропорты | AY4: водоотведение - передача | AZ4: Расчетный | BA4: Утвержден | BB4: Ежемесячный | BC4: Муниципальный шаблон | BD4: Сводный | BE4: ФСТ
AV5: ps_p | AW5: Периодичность: | AX5: Газ | AY5: водоотведение - прием | AZ5: Обосновывающие материалы | BB5: Ежеквартальный | BC5: Шаблон от организации | BE5: Экспертная организация
D6: 1. Общие сведения | AV6: ps_geo | AW6: "Геотип" шаблона: | AX6: Железные дороги | AY6: водоснабжение - очистка | BB6: Ежегодный
D7: 1.1 | E7: Код | AV7: ps_tsh | AW7: Тип шаблона: | AX7: ЖКХ | AY7: водоснабжение - передача
D8: 1.2 | E8: Краткое наименование | AV8: ps_psr | AW8: Подсфера: | AX8: Медицина | AY8: водоснабжение - подъем
D9: 1.3 | E9: Полное наименование | AV9: ps_z | AW9: Заказчик: | AX9: Порты | AY9: выработка ТС
D10: 1.4 | E10: Сфера регулирования | AX10: Связь | AY10: выработка ТС в режиме комбинированной выработки
D11: 1.5 | E11: Подсфера | AX11: Транспорт | AY11: выработка электрической энергии
D12: 1.6 | E12: Состояние шаблона (Утвержден/Проект) | AX12: Электроэнергетика | AY12: выработка+передача+сбыт ТС
D13: 1.7 | E13: Заказчик | AY13: передача ТС
D14: 1.8 | E14: Отчитывается | AY14: передача ЭЭ
D15: 1.9 | E15: Тип шаблона | G15: Если шаблон сводный, необходимо указать код атомарного шаблона для него: | AY15: сбыт ТС
D16: 1.10 | E16: Текущая версия | AY16: сбыт ЭЭ
AY17: ТБО
D18: 2. Организационные
D19: 2.1 | E19: Тип информации в шаблоне
D20: 2.2 | E20: Ответственный регулятор (от заказчика)
D21: 2.3 | E21: Ответственный специалист (от СМА)
D22: 2.4 | E22: Ответственный программист (от СМА)
D23: 2.5 | E23: Ответственные за сбор данных (от СМА)
D24: 2.6 | E24: Ответственные за сбор данных (от заказчика)
D26: 3. Законодательство (методики, приказы, постановления ...)
C27: first | D27: 3.1 | E27: Документ1
C28: end | D28: Добавить документ
D30: 4. Периодичность
D31: 4.1 | E31: Периодичность
E32: Мониторинги(прошедшие и плановые) | F32: Дата начала | G32: Дата окончания | H32: Согласно (приказ, постановление, письмо)
C33: first | D33: 4.2.1 | E33: Мониторинг1
C34: end | D34: Добавить мониторинг
D36: 5. Состав шаблона
E37: Лист | F37: Последняя дата изменений эскиза | G37: Состояние листа | H37: Наименование витрины для листа | I37: Комментарии
C38: first | D38: 5.1.1
C39: Удалить | D39: 5.1.2
C40: Удалить | D40: 5.1.3
C41: Удалить | D41: 5.1.4
C42: Удалить | D42: 5.1.5
C43: Удалить | D43: 5.1.6
...
